BEGIN:VCALENDAR
VERSION:2.0
PRODID:-//Neerby//EN
CALSCALE:GREGORIAN
METHOD:PUBLISH
BEGIN:VEVENT
UID:neerby-event-6036@neerby.io
DTSTAMP:20260425T040655Z
DTSTART:20260920T131000
DTEND:20260920
SUMMARY:Chicago White Sox vs. Detroit Tigers
DESCRIPTION:Chicago White Sox home game at Guaranteed Rate Field.
LOCATION:Guaranteed Rate Field\, 333 W 35th St\, Chicago\, IL\, 60616
URL:https://neerby.io/event/6036
END:VEVENT
END:VCALENDAR