BEGIN:VCALENDAR
VERSION:2.0
PRODID:-//Neerby//EN
CALSCALE:GREGORIAN
METHOD:PUBLISH
BEGIN:VEVENT
UID:neerby-event-6190@neerby.io
DTSTAMP:20260422T030529Z
DTSTART:20260912T151000
DTEND:20260912
SUMMARY:Minnesota Twins vs. Cleveland Guardians
DESCRIPTION:Minnesota Twins home game at Target Field.
LOCATION:Target Field\, 353 N 5th St\, Minneapolis\, MN\, 55403
URL:https://neerby.io/event/6190
END:VEVENT
END:VCALENDAR