BEGIN:VCALENDAR
VERSION:2.0
PRODID:-//Neerby//EN
CALSCALE:GREGORIAN
METHOD:PUBLISH
BEGIN:VEVENT
UID:neerby-event-6192@neerby.io
DTSTAMP:20260423T041832Z
DTSTART:20260914T184000
DTEND:20260914
SUMMARY:Minnesota Twins vs. New York Yankees
DESCRIPTION:Minnesota Twins home game at Target Field.
LOCATION:Target Field\, 353 N 5th St\, Minneapolis\, MN\, 55403
URL:https://neerby.io/event/6192
END:VEVENT
END:VCALENDAR