BEGIN:VCALENDAR
VERSION:2.0
PRODID:-//Neerby//EN
CALSCALE:GREGORIAN
METHOD:PUBLISH
BEGIN:VEVENT
UID:neerby-event-6268@neerby.io
DTSTAMP:20260423T041741Z
DTSTART:20260914T184000
DTEND:20260914
SUMMARY:Colorado Rockies vs. San Diego Padres
DESCRIPTION:Colorado Rockies home game at Coors Field.
LOCATION:Coors Field\, 2001 Blake St\, Denver\, CO\, 80205
URL:https://neerby.io/event/6268
END:VEVENT
END:VCALENDAR