BEGIN:VCALENDAR
VERSION:2.0
PRODID:-//Neerby//EN
CALSCALE:GREGORIAN
METHOD:PUBLISH
BEGIN:VEVENT
UID:neerby-event-6271@neerby.io
DTSTAMP:20260424T034409Z
DTSTART:20260917T131000
DTEND:20260917
SUMMARY:Colorado Rockies vs. San Diego Padres
DESCRIPTION:Colorado Rockies home game at Coors Field.
LOCATION:Coors Field\, 2001 Blake St\, Denver\, CO\, 80205
URL:https://neerby.io/event/6271
END:VEVENT
END:VCALENDAR