BEGIN:VCALENDAR
VERSION:2.0
PRODID:-//Neerby//EN
CALSCALE:GREGORIAN
METHOD:PUBLISH
BEGIN:VEVENT
UID:neerby-event-6351@neerby.io
DTSTAMP:20260424T032842Z
DTSTART:20260917T190500
DTEND:20260917
SUMMARY:Texas Rangers vs. Boston Red Sox
DESCRIPTION:Texas Rangers home game at Globe Life Field.
LOCATION:Globe Life Field\, 734 Stadium Dr\, Arlington\, TX\, 76011
URL:https://neerby.io/event/6351
END:VEVENT
END:VCALENDAR