BEGIN:VCALENDAR
VERSION:2.0
PRODID:-//Neerby//EN
CALSCALE:GREGORIAN
METHOD:PUBLISH
BEGIN:VEVENT
UID:neerby-event-6356@neerby.io
DTSTAMP:20260426T042928Z
DTSTART:20260923T190500
DTEND:20260923
SUMMARY:Texas Rangers vs. New York Mets
DESCRIPTION:Texas Rangers home game at Globe Life Field.
LOCATION:Globe Life Field\, 734 Stadium Dr\, Arlington\, TX\, 76011
URL:https://neerby.io/event/6356
END:VEVENT
END:VCALENDAR