BEGIN:VCALENDAR
VERSION:2.0
PRODID:-//Neerby//EN
CALSCALE:GREGORIAN
METHOD:PUBLISH
BEGIN:VEVENT
UID:neerby-event-6426@neerby.io
DTSTAMP:20260423T041844Z
DTSTART:20260915T191000
DTEND:20260915
SUMMARY:Houston Astros vs. Kansas City Royals
DESCRIPTION:Houston Astros home game at Minute Maid Park.
LOCATION:Minute Maid Park\, 501 Crawford St\, Houston\, TX\, 77002
URL:https://neerby.io/event/6426
END:VEVENT
END:VCALENDAR