BEGIN:VCALENDAR
VERSION:2.0
PRODID:-//Neerby//EN
CALSCALE:GREGORIAN
METHOD:PUBLISH
BEGIN:VEVENT
UID:neerby-event-6429@neerby.io
DTSTAMP:20260424T034156Z
DTSTART:20260918T191000
DTEND:20260918
SUMMARY:Houston Astros vs. Atlanta Braves
DESCRIPTION:Houston Astros home game at Minute Maid Park.
LOCATION:Minute Maid Park\, 501 Crawford St\, Houston\, TX\, 77002
URL:https://neerby.io/event/6429
END:VEVENT
END:VCALENDAR