BEGIN:VCALENDAR
VERSION:2.0
PRODID:-//Neerby//EN
CALSCALE:GREGORIAN
METHOD:PUBLISH
BEGIN:VEVENT
UID:neerby-event-6430@neerby.io
DTSTAMP:20260425T040557Z
DTSTART:20260919T181000
DTEND:20260919
SUMMARY:Houston Astros vs. Atlanta Braves
DESCRIPTION:Houston Astros home game at Minute Maid Park.
LOCATION:Minute Maid Park\, 501 Crawford St\, Houston\, TX\, 77002
URL:https://neerby.io/event/6430
END:VEVENT
END:VCALENDAR