BEGIN:VCALENDAR
VERSION:2.0
PRODID:-//Neerby//EN
CALSCALE:GREGORIAN
METHOD:PUBLISH
BEGIN:VEVENT
UID:neerby-event-6502@neerby.io
DTSTAMP:20260422T030447Z
DTSTART:20260912T191500
DTEND:20260912
SUMMARY:Atlanta Braves vs. Philadelphia Phillies
DESCRIPTION:Atlanta Braves home game at Truist Park.
LOCATION:Truist Park\, 755 Battery Ave SE\, Atlanta\, GA\, 30339
URL:https://neerby.io/event/6502
END:VEVENT
END:VCALENDAR