BEGIN:VCALENDAR
VERSION:2.0
PRODID:-//Neerby//EN
CALSCALE:GREGORIAN
METHOD:PUBLISH
BEGIN:VEVENT
UID:neerby-event-6505@neerby.io
DTSTAMP:20260426T042852Z
DTSTART:20260923T191500
DTEND:20260923
SUMMARY:Atlanta Braves vs. Cincinnati Reds
DESCRIPTION:Atlanta Braves home game at Truist Park.
LOCATION:Truist Park\, 755 Battery Ave SE\, Atlanta\, GA\, 30339
URL:https://neerby.io/event/6505
END:VEVENT
END:VCALENDAR