BEGIN:VCALENDAR
VERSION:2.0
PRODID:-//Neerby//EN
CALSCALE:GREGORIAN
METHOD:PUBLISH
BEGIN:VEVENT
UID:neerby-event-6577@neerby.io
DTSTAMP:20260422T030024Z
DTSTART:20260912T161000
DTEND:20260912
SUMMARY:Miami Marlins vs. Los Angeles Dodgers
DESCRIPTION:Miami Marlins home game at loanDepot park.
LOCATION:loanDepot park\, 501 Marlins Way\, Miami\, FL\, 33125
URL:https://neerby.io/event/6577
END:VEVENT
END:VCALENDAR