BEGIN:VCALENDAR
VERSION:2.0
PRODID:-//Neerby//EN
CALSCALE:GREGORIAN
METHOD:PUBLISH
BEGIN:VEVENT
UID:neerby-event-6656@neerby.io
DTSTAMP:20260422T030728Z
DTSTART:20260913T134000
DTEND:20260913
SUMMARY:Tampa Bay Rays vs. Houston Astros
DESCRIPTION:Tampa Bay Rays home game at Tropicana Field.
LOCATION:Tropicana Field\, 1 Tropicana Dr\, St. Petersburg\, FL\, 33705
URL:https://neerby.io/event/6656
END:VEVENT
END:VCALENDAR