BEGIN:VCALENDAR
VERSION:2.0
PRODID:-//Neerby//EN
CALSCALE:GREGORIAN
METHOD:PUBLISH
BEGIN:VEVENT
UID:neerby-event-6657@neerby.io
DTSTAMP:20260423T041920Z
DTSTART:20260915T184000
DTEND:20260915
SUMMARY:Tampa Bay Rays vs. Athletics
DESCRIPTION:Tampa Bay Rays home game at Tropicana Field.
LOCATION:Tropicana Field\, 1 Tropicana Dr\, St. Petersburg\, FL\, 33705
URL:https://neerby.io/event/6657
END:VEVENT
END:VCALENDAR