BEGIN:VCALENDAR
VERSION:2.0
PRODID:-//Neerby//EN
CALSCALE:GREGORIAN
METHOD:PUBLISH
BEGIN:VEVENT
UID:neerby-event-6737@neerby.io
DTSTAMP:20260426T042740Z
DTSTART:20260922T184500
DTEND:20260922
SUMMARY:Boston Red Sox vs. Cleveland Guardians
DESCRIPTION:Boston Red Sox home game at Fenway Park.
LOCATION:Fenway Park\, 4 Yawkey Way\, Boston\, MA\, 02215
URL:https://neerby.io/event/6737
END:VEVENT
END:VCALENDAR