BEGIN:VCALENDAR
VERSION:2.0
PRODID:-//Neerby//EN
CALSCALE:GREGORIAN
METHOD:PUBLISH
BEGIN:VEVENT
UID:neerby-event-6818@neerby.io
DTSTAMP:20260426T042740Z
DTSTART:20260923T190500
DTEND:20260923
SUMMARY:New York Yankees vs. Tampa Bay Rays
DESCRIPTION:New York Yankees home game at Yankee Stadium.
LOCATION:Yankee Stadium\, 1 E 161st St\, Bronx\, NY\, 10451
URL:https://neerby.io/event/6818
END:VEVENT
END:VCALENDAR