BEGIN:VCALENDAR
VERSION:2.0
PRODID:-//Neerby//EN
CALSCALE:GREGORIAN
METHOD:PUBLISH
BEGIN:VEVENT
UID:neerby-event-6900@neerby.io
DTSTAMP:20260425T041208Z
DTSTART:20260920T134000
DTEND:20260920
SUMMARY:New York Mets vs. Philadelphia Phillies
DESCRIPTION:New York Mets home game at Citi Field.
LOCATION:Citi Field\, 41 Seaver Way\, Flushing\, NY\, 11368
URL:https://neerby.io/event/6900
END:VEVENT
END:VCALENDAR