BEGIN:VCALENDAR
VERSION:2.0
PRODID:-//Neerby//EN
CALSCALE:GREGORIAN
METHOD:PUBLISH
BEGIN:VEVENT
UID:neerby-event-6971@neerby.io
DTSTAMP:20260426T042739Z
DTSTART:20260923T184000
DTEND:20260923
SUMMARY:Philadelphia Phillies vs. Milwaukee Brewers
DESCRIPTION:Philadelphia Phillies home game at Citizens Bank Park.
LOCATION:Citizens Bank Park\, 1 Citizens Bank Way\, Philadelphia\, PA\, 19148
URL:https://neerby.io/event/6971
END:VEVENT
END:VCALENDAR