BEGIN:VCALENDAR
VERSION:2.0
PRODID:-//Neerby//EN
CALSCALE:GREGORIAN
METHOD:PUBLISH
BEGIN:VEVENT
UID:neerby-event-7127@neerby.io
DTSTAMP:20260423T042002Z
DTSTART:20260915T184000
DTEND:20260915
SUMMARY:Pittsburgh Pirates vs. Milwaukee Brewers
DESCRIPTION:Pittsburgh Pirates home game at PNC Park.
LOCATION:PNC Park\, 115 Federal St\, Pittsburgh\, PA\, 15212
URL:https://neerby.io/event/7127
END:VEVENT
END:VCALENDAR