BEGIN:VCALENDAR
VERSION:2.0
PRODID:-//Neerby//EN
CALSCALE:GREGORIAN
METHOD:PUBLISH
BEGIN:VEVENT
UID:neerby-event-7129@neerby.io
DTSTAMP:20260424T034155Z
DTSTART:20260917T123500
DTEND:20260917
SUMMARY:Pittsburgh Pirates vs. Milwaukee Brewers
DESCRIPTION:Pittsburgh Pirates home game at PNC Park.
LOCATION:PNC Park\, 115 Federal St\, Pittsburgh\, PA\, 15212
URL:https://neerby.io/event/7129
END:VEVENT
END:VCALENDAR