BEGIN:VCALENDAR
VERSION:2.0
PRODID:-//Neerby//EN
CALSCALE:GREGORIAN
METHOD:PUBLISH
BEGIN:VEVENT
UID:neerby-event-7130@neerby.io
DTSTAMP:20260424T033345Z
DTSTART:20260918T184000
DTEND:20260918
SUMMARY:Pittsburgh Pirates vs. Kansas City Royals
DESCRIPTION:Pittsburgh Pirates home game at PNC Park.
LOCATION:PNC Park\, 115 Federal St\, Pittsburgh\, PA\, 15212
URL:https://neerby.io/event/7130
END:VEVENT
END:VCALENDAR