BEGIN:VCALENDAR
VERSION:2.0
PRODID:-//Neerby//EN
CALSCALE:GREGORIAN
METHOD:PUBLISH
BEGIN:VEVENT
UID:neerby-event-7134@neerby.io
DTSTAMP:20260426T042852Z
DTSTART:20260923T184000
DTEND:20260923
SUMMARY:Pittsburgh Pirates vs. St. Louis Cardinals
DESCRIPTION:Pittsburgh Pirates home game at PNC Park.
LOCATION:PNC Park\, 115 Federal St\, Pittsburgh\, PA\, 15212
URL:https://neerby.io/event/7134
END:VEVENT
END:VCALENDAR