BEGIN:VCALENDAR
VERSION:2.0
PRODID:-//Neerby//EN
CALSCALE:GREGORIAN
METHOD:PUBLISH
BEGIN:VEVENT
UID:neerby-event-7212@neerby.io
DTSTAMP:20260424T034250Z
DTSTART:20260916T131000
DTEND:20260916
SUMMARY:Cleveland Guardians vs. Chicago White Sox
DESCRIPTION:Cleveland Guardians home game at Progressive Field.
LOCATION:Progressive Field\, 2401 Ontario St\, Cleveland\, OH\, 44115
URL:https://neerby.io/event/7212
END:VEVENT
END:VCALENDAR