BEGIN:VCALENDAR
VERSION:2.0
PRODID:-//Neerby//EN
CALSCALE:GREGORIAN
METHOD:PUBLISH
BEGIN:VEVENT
UID:neerby-event-7214@neerby.io
DTSTAMP:20260425T040557Z
DTSTART:20260919T181000
DTEND:20260919
SUMMARY:Cleveland Guardians vs. Athletics
DESCRIPTION:Cleveland Guardians home game at Progressive Field.
LOCATION:Progressive Field\, 2401 Ontario St\, Cleveland\, OH\, 44115
URL:https://neerby.io/event/7214
END:VEVENT
END:VCALENDAR