BEGIN:VCALENDAR
VERSION:2.0
PRODID:-//Neerby//EN
CALSCALE:GREGORIAN
METHOD:PUBLISH
BEGIN:VEVENT
UID:neerby-event-7289@neerby.io
DTSTAMP:20260423T040142Z
DTSTART:20260913T134000
DTEND:20260913
SUMMARY:Detroit Tigers vs. Colorado Rockies
DESCRIPTION:Detroit Tigers home game at Comerica Park.
LOCATION:Comerica Park\, 2100 Woodward Ave\, Detroit\, MI\, 48201
URL:https://neerby.io/event/7289
END:VEVENT
END:VCALENDAR