BEGIN:VCALENDAR
VERSION:2.0
PRODID:-//Neerby//EN
CALSCALE:GREGORIAN
METHOD:PUBLISH
BEGIN:VEVENT
UID:neerby-event-7364@neerby.io
DTSTAMP:20260423T041741Z
DTSTART:20260914T184000
DTEND:20260914
SUMMARY:Cincinnati Reds vs. Los Angeles Dodgers
DESCRIPTION:Cincinnati Reds home game at Great American Ball Park.
LOCATION:Great American Ball Park\, 100 Main St\, Cincinnati\, OH\, 45202
URL:https://neerby.io/event/7364
END:VEVENT
END:VCALENDAR