BEGIN:VCALENDAR
VERSION:2.0
PRODID:-//Neerby//EN
CALSCALE:GREGORIAN
METHOD:PUBLISH
BEGIN:VEVENT
UID:neerby-event-7589@neerby.io
DTSTAMP:20260423T040532Z
DTSTART:20260913T162000
DTEND:20260913
SUMMARY:San Francisco Giants vs. San Diego Padres
DESCRIPTION:San Francisco Giants home game at Oracle Park.
LOCATION:Oracle Park\, 24 Willie Mays Plaza\, San Francisco\, CA\, 94107
URL:https://neerby.io/event/7589
END:VEVENT
END:VCALENDAR