BEGIN:VCALENDAR
VERSION:2.0
PRODID:-//Neerby//EN
CALSCALE:GREGORIAN
METHOD:PUBLISH
BEGIN:VEVENT
UID:neerby-event-7592@neerby.io
DTSTAMP:20260426T042852Z
DTSTART:20260923T124500
DTEND:20260923
SUMMARY:San Francisco Giants vs. Minnesota Twins
DESCRIPTION:San Francisco Giants home game at Oracle Park.
LOCATION:Oracle Park\, 24 Willie Mays Plaza\, San Francisco\, CA\, 94107
URL:https://neerby.io/event/7592
END:VEVENT
END:VCALENDAR