BEGIN:VCALENDAR
VERSION:2.0
PRODID:-//Neerby//EN
CALSCALE:GREGORIAN
METHOD:PUBLISH
BEGIN:VEVENT
UID:neerby-event-7745@neerby.io
DTSTAMP:20260423T041838Z
DTSTART:20260913T130500
DTEND:20260913
SUMMARY:Oakland Athletics vs. Seattle Mariners
DESCRIPTION:Oakland Athletics home game at Sutter Health Park.
LOCATION:Sutter Health Park\, 400 Ballpark Dr\, Sacramento\, CA\, 95834
URL:https://neerby.io/event/7745
END:VEVENT
END:VCALENDAR