BEGIN:VCALENDAR
VERSION:2.0
PRODID:-//Neerby//EN
CALSCALE:GREGORIAN
METHOD:PUBLISH
BEGIN:VEVENT
UID:neerby-event-7746@neerby.io
DTSTAMP:20260426T042734Z
DTSTART:20260922T184000
DTEND:20260922
SUMMARY:Oakland Athletics vs. Los Angeles Angels
DESCRIPTION:Oakland Athletics home game at Sutter Health Park.
LOCATION:Sutter Health Park\, 400 Ballpark Dr\, Sacramento\, CA\, 95834
URL:https://neerby.io/event/7746
END:VEVENT
END:VCALENDAR