BEGIN:VCALENDAR
VERSION:2.0
PRODID:-//Neerby//EN
CALSCALE:GREGORIAN
METHOD:PUBLISH
BEGIN:VEVENT
UID:neerby-event-7825@neerby.io
DTSTAMP:20260426T042959Z
DTSTART:20260922T183500
DTEND:20260922
SUMMARY:Baltimore Orioles vs. Toronto Blue Jays
DESCRIPTION:Baltimore Orioles home game at Oriole Park at Camden Yards.
LOCATION:Oriole Park at Camden Yards\, 333 W Camden St\, Baltimore\, MD\, 21201
URL:https://neerby.io/event/7825
END:VEVENT
END:VCALENDAR