BEGIN:VCALENDAR
VERSION:2.0
PRODID:-//Neerby//EN
CALSCALE:GREGORIAN
METHOD:PUBLISH
BEGIN:VEVENT
UID:neerby-event-7900@neerby.io
DTSTAMP:20260423T041844Z
DTSTART:20260914T183800
DTEND:20260914
SUMMARY:Los Angeles Angels vs. Seattle Mariners
DESCRIPTION:Los Angeles Angels home game at Angel Stadium.
LOCATION:Angel Stadium\, 2000 E Gene Autry Way\, Anaheim\, CA\, 92806
URL:https://neerby.io/event/7900
END:VEVENT
END:VCALENDAR