BEGIN:VCALENDAR
VERSION:2.0
PRODID:-//Neerby//EN
CALSCALE:GREGORIAN
METHOD:PUBLISH
BEGIN:VEVENT
UID:neerby-event-7904@neerby.io
DTSTAMP:20260425T041053Z
DTSTART:20260918T183800
DTEND:20260918
SUMMARY:Los Angeles Angels vs. Minnesota Twins
DESCRIPTION:Los Angeles Angels home game at Angel Stadium.
LOCATION:Angel Stadium\, 2000 E Gene Autry Way\, Anaheim\, CA\, 92806
URL:https://neerby.io/event/7904
END:VEVENT
END:VCALENDAR