BEGIN:VCALENDAR
VERSION:2.0
PRODID:-//Neerby//EN
CALSCALE:GREGORIAN
METHOD:PUBLISH
BEGIN:VEVENT
UID:neerby-event-7977@neerby.io
DTSTAMP:20260422T030446Z
DTSTART:20260912T181000
DTEND:20260912
SUMMARY:Milwaukee Brewers vs. Cincinnati Reds
DESCRIPTION:Milwaukee Brewers home game at American Family Field.
LOCATION:American Family Field\, 1 Brewers Way\, Milwaukee\, WI\, 53214
URL:https://neerby.io/event/7977
END:VEVENT
END:VCALENDAR