BEGIN:VCALENDAR
VERSION:2.0
PRODID:-//Neerby//EN
CALSCALE:GREGORIAN
METHOD:PUBLISH
BEGIN:VEVENT
UID:neerby-event-9844@neerby.io
DTSTAMP:20260422T030554Z
DTSTART:20260912T003000
DTEND:20260912
SUMMARY:Eric Clapton
LOCATION:United Center\, 1901 W Madison St\, Chicago\, IL\, 60612
URL:https://neerby.io/event/9844
END:VEVENT
END:VCALENDAR